BEGIN:VCALENDAR
VERSION:2.0
PRODID:-//wp-events-plugin.com//7.2.3.1//EN
TZID:America/Detroit
X-WR-TIMEZONE:America/Detroit
BEGIN:VEVENT
UID:36@atlantafreedombands.com
DTSTART;TZID=America/Detroit:20250322T190000
DTEND;TZID=America/Detroit:20250322T210000
DTSTAMP:20250321T201117Z
URL:https://atlantafreedombands.com/events/simply-the-best/
SUMMARY:Simply the Best
DESCRIPTION:Atlanta Freedom Bands presents a curated collection of classic
 s for wind band. AFB’s Music Directors and musicians have selected a pro
 gram representing some of the best pieces of band repertoire from yesterda
 y's and today's composers.
ATTACH;FMTTYPE=image/jpeg:https://atlantafreedombands.com/wp-content/uploa
 ds/2024/10/AFB-SimplyTheBest-SocialMedia_Facebook-Ad.png
CATEGORIES:Concert Band
LOCATION:The Church at Ponce and Highland\, 1085 Ponce De Leon Ave NE\, Atl
 anta\, GA\, 30316\, United States
X-APPLE-STRUCTURED-LOCATION;VALUE=URI;X-ADDRESS=1085 Ponce De Leon Ave NE\,
  Atlanta\, GA\, 30316\, United States;X-APPLE-RADIUS=100;X-TITLE=The Churc
 h at Ponce and Highland:geo:0,0
END:VEVENT
BEGIN:VTIMEZONE
TZID:America/Detroit
X-LIC-LOCATION:America/Detroit
BEGIN:DAYLIGHT
DTSTART:20250309T030000
TZOFFSETFROM:-0500
TZOFFSETTO:-0400
TZNAME:EDT
END:DAYLIGHT
END:VTIMEZONE
END:VCALENDAR