BEGIN:VCALENDAR
VERSION:2.0
PRODID:-//wp-events-plugin.com//7.2.3.1//EN
TZID:America/Detroit
X-WR-TIMEZONE:America/Detroit
BEGIN:VEVENT
UID:42@atlantafreedombands.com
DTSTART;TZID=America/Detroit;VALUE=DATE:20251011
DTEND;TZID=America/Detroit;VALUE=DATE:20251013
DTSTAMP:20251007T100909Z
URL:https://atlantafreedombands.com/events/pride-2025/
SUMMARY:Atlanta Pride Festival
DESCRIPTION:Come visit Atlanta Freedom Bands at the 2025 Atlanta Pride Fest
 ival!\n\nWe'll be at the booth all Saturday and Sunday with some fun Atlan
 ta Freedom Bands swag\, and will also be providing marching beats in the T
 rans March and the Atlanta Pride Parade!\n\nYou can find our booth using t
 he map below. Our double booth is located between Henri's and the Tennis C
 ourts. Come say hi!\n\n 	Booth: All Weekend!\n 	Trans March: Saturday @ 1:
 45p. Starts at Charles Allen Gate.\n 	Pride Parade: Sunday @ 12:00p. Start
 s at Civic Center and continues to Piedmont Park.\n\n
ATTACH;FMTTYPE=image/jpeg:https://atlantafreedombands.com/wp-content/uploa
 ds/2025/06/ATL-Freedom-Band-Pride-24-566.jpg
CATEGORIES:Color Guard,Concert Band,Marching Band,MetroGnomes
LOCATION:Piedmont Park\, 1320 Monroe Drive\, Atlanta\, GA\, 30306\, United 
 States
X-APPLE-STRUCTURED-LOCATION;VALUE=URI;X-ADDRESS=1320 Monroe Drive\, Atlanta
 \, GA\, 30306\, United States;X-APPLE-RADIUS=100;X-TITLE=Piedmont Park:geo
 :0,0
END:VEVENT
BEGIN:VTIMEZONE
TZID:America/Detroit
X-LIC-LOCATION:America/Detroit
BEGIN:DAYLIGHT
DTSTART:20250309T030000
TZOFFSETFROM:-0500
TZOFFSETTO:-0400
TZNAME:EDT
END:DAYLIGHT
END:VTIMEZONE
END:VCALENDAR