BEGIN:VCALENDAR
VERSION:2.0
PRODID:-//wp-events-plugin.com//7.2.3.1//EN
TZID:America/Detroit
X-WR-TIMEZONE:America/Detroit
BEGIN:VEVENT
UID:39@atlantafreedombands.com
DTSTART;TZID=America/Detroit:20250301T140000
DTEND;TZID=America/Detroit:20250301T160000
DTSTAMP:20250222T221815Z
URL:https://atlantafreedombands.com/events/mardi-gras-2025/
SUMMARY:Mardi Gras Parade
DESCRIPTION:Fresh off of their appearance at the Hawks halftime\, the AFB M
 arching Band and Color Guard are out and proud at Mardi Gras in Stone Moun
 tain! Join the fun at the festival from 12p-6p and make your way to the st
 reets for the parade at 2pm. The parade route is below. We can't wait to s
 ee you there!
ATTACH;FMTTYPE=image/jpeg:https://atlantafreedombands.com/wp-content/uploa
 ds/2025/02/Mardi-Gras-Parade-1200-x-628-px.png
CATEGORIES:Color Guard,Marching Band
LOCATION:Stone Mountain Village\, 5326 Manor Drive\, Stone Mountain\, GA\, 
 30083\, United States
X-APPLE-STRUCTURED-LOCATION;VALUE=URI;X-ADDRESS=5326 Manor Drive\, Stone Mo
 untain\, GA\, 30083\, United States;X-APPLE-RADIUS=100;X-TITLE=Stone Mount
 ain Village:geo:0,0
END:VEVENT
BEGIN:VTIMEZONE
TZID:America/Detroit
X-LIC-LOCATION:America/Detroit
BEGIN:STANDARD
DTSTART:20241103T010000
TZOFFSETFROM:-0400
TZOFFSETTO:-0500
TZNAME:EST
END:STANDARD
END:VTIMEZONE
END:VCALENDAR