BEGIN:VCALENDAR
VERSION:2.0
PRODID:-//wp-events-plugin.com//7.2.3.1//EN
TZID:America/Detroit
X-WR-TIMEZONE:America/Detroit
BEGIN:VEVENT
UID:28@atlantafreedombands.com
DTSTART;TZID=America/Detroit:20241221T190000
DTEND;TZID=America/Detroit:20241221T210000
DTSTAMP:20241217T231900Z
URL:https://atlantafreedombands.com/events/kids-one-to-92/
SUMMARY:To Kids from One to 92
DESCRIPTION:Celebrate the Holiday Season with AFB\nAtlanta Freedom Bands ta
 kes you back to the joyous holiday memories of youth.  Our program is fil
 led with music that evokes the senses of fun\, joy\, and wonder that accom
 panies this special time of year.  Whether you enjoy watching holiday spe
 cials\, waiting for a rooftop visit from Santa's sleigh\, or winning as yo
 u spin the dreidel\, our concert has something special for you!\n\nThe con
 cert celebrates the 20th anniversary of our AFB Concert Band\, so we had t
 o invite special guests.  We are thrilled to welcome back Olive d'Nightli
 fe and Agatha Boogie\, Atlanta's favorite comedy drag duo\, to host our co
 ncert.  They left us in stitches at our March concert\, so we can't wait 
 to see them again!\n\nThe concert also features a new work from our Studen
 t Composer Residency Program. We will welcome Bert Agripino\, a student a
 t the University of West Georgia\, for a performance of his new work "Sta
 rbound".\n\nGet your tickets today for this exciting and fun concert!\n(Th
 ey make great gifts\, too!)\n\nTickets are $20 general admission\, $15 sen
 iors\, $10 students.\nThe concert will also stream live from AFB’s YouTu
 be channel.\n\nThe program features:\n"Overture to a Winter Celebration" b
 y James Stephenson\n"Snow Angels" by Randall Standridge\n"Greensleeves" ar
 r. by Alfred Reed\n"Sinterklaas's Rooftop Ride" by Laura Estes\n"Christmas
  from the 50's" arr. by Doug Wagner\n"The Christmas Song" by Mel Tormé\n"
 Secret Agent Santa" by Jeff Simon\n"'Twas the Night Before" by arr. David 
 Shaffer\n"A Chanukah Celebration" by David Bobrowitz\n"Starbound" by Berg 
 Arpino\, student composer\n"You Better Sleigh!" by JaRod Hall\n"Twas the N
 ight Before Christmas" by arr. Newell Long\n"Holiday Mash-Up" arr. by Patr
 ick Roszell\n\n\n\nACCESSIBILITY\nAn accessible entrance is available with
  a flat path from the parking deck behind the church to the rear door into
  the concert area and to the restrooms. The standard complement of symphon
 ic percussion will be in use. The concert will not have special effects or
  lighting. For accessibility questions\, please email development@atlantaf
 reedombands.com.\n\n\n\nGETTING HERE\nParking is available in a pay deck b
 ehind the church. Overflow parking is available street-side and in a pay l
 ot at Highland Ave and Briarcliff Place.\nOpen Google Maps &gt\;\nVIEW THE
  PROGRAM\nConcert programs are available the week before the show so you c
 an read more about the pieces and composers.\nDownload the program &gt\;\n
 \n\n\n\n\n\nDINNER AND A SHOW\nSupport our favorite neighborhood restauran
 ts before the show. Make your pre-show dinner plans at these fine location
 s.\nView our Recommendations &gt\;\nWATCH THE STREAM\nAll of AFB’s 31st 
 season concerts will stream live on our YouTube channel.  The stream will
  be available for a short time after the concert.\nStream the Concert &gt\
 ;\n\n\n\n\n\n\n\n\n\n\n\n\n\n"For Kids from One to 92" is supported in par
 t by the City of Atlanta – Mayor’s Office of Cultural Affairs. Funding
  for this program is also provided by the Fulton County Board of Commissio
 ners under the guidance of Fulton County Arts &amp\; Culture. This program
  is supported in part by Georgia Council for the Arts through the appropri
 ations of the Georgia General Assembly. Georgia Council for the Arts also 
 receives support from its partner agency – the National Endowment for th
 e Arts.
ATTACH;FMTTYPE=image/jpeg:https://atlantafreedombands.com/wp-content/uploa
 ds/2024/06/AFB-ToKids-SocialMedia_Facebook-Ad.png
CATEGORIES:Concert Band
LOCATION:The Church at Ponce and Highland\, 1085 Ponce De Leon Ave NE\, Atl
 anta\, GA\, 30316\, United States
X-APPLE-STRUCTURED-LOCATION;VALUE=URI;X-ADDRESS=1085 Ponce De Leon Ave NE\,
  Atlanta\, GA\, 30316\, United States;X-APPLE-RADIUS=100;X-TITLE=The Churc
 h at Ponce and Highland:geo:0,0
END:VEVENT
BEGIN:VTIMEZONE
TZID:America/Detroit
X-LIC-LOCATION:America/Detroit
BEGIN:STANDARD
DTSTART:20241103T010000
TZOFFSETFROM:-0400
TZOFFSETTO:-0500
TZNAME:EST
END:STANDARD
END:VTIMEZONE
END:VCALENDAR