BEGIN:VCALENDAR
VERSION:2.0
PRODID:-//wp-events-plugin.com//7.2.3.1//EN
TZID:America/Detroit
X-WR-TIMEZONE:America/Detroit
BEGIN:VEVENT
UID:33@atlantafreedombands.com
DTSTART;TZID=America/Detroit:20241012T134500
DTEND;TZID=America/Detroit:20241012T144500
DTSTAMP:20241005T115427Z
URL:https://atlantafreedombands.com/events/atlanta-trans-march-2024/
SUMMARY:Atlanta Trans March
DESCRIPTION:Atlanta Freedom Bands not only supports\, but has members that 
 represent every letter of the LGBTQ+ acronym. The AFB Drumline is proud to
  support our Transgender members\, neighbors\, and friends in the 2024 Ann
 ual Trans March\, hosted by the Atlanta Pride Committee.\n\nFrom the Pride
  Committee:\nThis march celebrates and promotes visibility of the Trans co
 mmunity. The march takes place on the Festival grounds at Piedmont Park. A
 ll Trans people and Trans allies are welcome. We encourage individuals to 
 make and/or bring signs in support of Trans issues. The march begins at th
 e Charles Allen Gate and continues down 10th St towards Peachtree Street w
 here it turns right\, then right again on 14th St\, ending at the the 14th
  St Gate.
ATTACH;FMTTYPE=image/jpeg:https://atlantafreedombands.com/wp-content/uploa
 ds/2024/10/Trans-March.png
CATEGORIES:Marching Band
LOCATION:Midtown Atlanta\, Peachtree St.\, Atlanta\, GA\, 30309\, United St
 ates
X-APPLE-STRUCTURED-LOCATION;VALUE=URI;X-ADDRESS=Peachtree St.\, Atlanta\, G
 A\, 30309\, United States;X-APPLE-RADIUS=100;X-TITLE=Midtown Atlanta:geo:0
 ,0
END:VEVENT
BEGIN:VTIMEZONE
TZID:America/Detroit
X-LIC-LOCATION:America/Detroit
BEGIN:DAYLIGHT
DTSTART:20240310T030000
TZOFFSETFROM:-0500
TZOFFSETTO:-0400
TZNAME:EDT
END:DAYLIGHT
END:VTIMEZONE
END:VCALENDAR