BEGIN:VCALENDAR
VERSION:2.0
PRODID:-//wp-events-plugin.com//7.2.3.1//EN
TZID:America/Detroit
X-WR-TIMEZONE:America/Detroit
BEGIN:VEVENT
UID:29@atlantafreedombands.com
DTSTART;TZID=America/Detroit:20241013T120000
DTEND;TZID=America/Detroit:20241013T160000
DTSTAMP:20240614T172005Z
URL:https://atlantafreedombands.com/events/atlanta-pride-parade/
SUMMARY:Atlanta Pride Parade
DESCRIPTION:Join the Marching Band\, Color Guard\, and a special Honor Guar
 d as they lead the annual Atlanta Pride Parade! 2024 marks 30 years of the
  Marching Band's participation in the parade. More information about the f
 estival can be found on Atlanta Pride's website.\n\nStop by the AFB booth 
 in Piedmont Park on Saturday and Sunday -- we'd love to see you!\n\nIntere
 sted in marching the parade? Fill out our member interest form and a Marc
 hing Band representative will be in touch.\n\nWant to spread the love? We
  need volunteers! Fill out the volunteer interest form here!
ATTACH;FMTTYPE=image/jpeg:https://atlantafreedombands.com/wp-content/uploa
 ds/2023/06/Augusta-2.jpeg
CATEGORIES:Color Guard,Marching Band
LOCATION:Midtown Atlanta\, Peachtree St.\, Atlanta\, GA\, 30309\, United St
 ates
X-APPLE-STRUCTURED-LOCATION;VALUE=URI;X-ADDRESS=Peachtree St.\, Atlanta\, G
 A\, 30309\, United States;X-APPLE-RADIUS=100;X-TITLE=Midtown Atlanta:geo:0
 ,0
END:VEVENT
BEGIN:VTIMEZONE
TZID:America/Detroit
X-LIC-LOCATION:America/Detroit
BEGIN:DAYLIGHT
DTSTART:20240310T030000
TZOFFSETFROM:-0500
TZOFFSETTO:-0400
TZNAME:EDT
END:DAYLIGHT
END:VTIMEZONE
END:VCALENDAR