BEGIN:VCALENDAR
VERSION:2.0
PRODID:-//wp-events-plugin.com//7.2.3.1//EN
TZID:America/Detroit
X-WR-TIMEZONE:America/Detroit
BEGIN:VEVENT
UID:32@atlantafreedombands.com
DTSTART;TZID=America/Detroit;VALUE=DATE:20241012
DTEND;TZID=America/Detroit;VALUE=DATE:20241014
DTSTAMP:20240928T142955Z
URL:https://atlantafreedombands.com/events/atlanta-pride-2024/
SUMMARY:Atlanta Pride Festival
DESCRIPTION:Come visit 2024 Pride Grand Marshals Atlanta Freedom Bands at t
 he 2024 Atlanta Pride Festival!\n\nWe'll be at the booth all Saturday and 
 Sunday with some fun Atlanta Freedom Bands swag\, and will also be feature
 d in the Trans March and the Atlanta Pride Parade!\n\nYou can find our boo
 th using the map below. Our double booth is located between Sean's and the
  Tennis Courts. Come say hi!\n\n
ATTACH;FMTTYPE=image/jpeg:https://atlantafreedombands.com/wp-content/uploa
 ds/2023/09/2022-Pride.png
CATEGORIES:Color Guard,Concert Band,Marching Band,MetroGnomes
LOCATION:Piedmont Park\, 1320 Monroe Drive\, Atlanta\, GA\, 30306\, United 
 States
X-APPLE-STRUCTURED-LOCATION;VALUE=URI;X-ADDRESS=1320 Monroe Drive\, Atlanta
 \, GA\, 30306\, United States;X-APPLE-RADIUS=100;X-TITLE=Piedmont Park:geo
 :0,0
END:VEVENT
BEGIN:VTIMEZONE
TZID:America/Detroit
X-LIC-LOCATION:America/Detroit
BEGIN:DAYLIGHT
DTSTART:20240310T030000
TZOFFSETFROM:-0500
TZOFFSETTO:-0400
TZNAME:EDT
END:DAYLIGHT
END:VTIMEZONE
END:VCALENDAR