BEGIN:VCALENDAR
VERSION:2.0
PRODID:-//wp-events-plugin.com//7.2.3.1//EN
TZID:America/Detroit
X-WR-TIMEZONE:America/Detroit
BEGIN:VEVENT
UID:38@atlantafreedombands.com
DTSTART;TZID=America/Detroit:20250122T193000
DTEND;TZID=America/Detroit:20250122T220000
DTSTAMP:20250103T002737Z
URL:https://atlantafreedombands.com/events/atlanta-hawks-pride-night/
SUMMARY:Atlanta Hawks Pride Night
DESCRIPTION:Join Atlanta Freedom Bands at Atlanta Hawks' seventh annual Pri
 de Night 2025!  The Hawks will take on the Detroit Pistons\, and AFB's Ma
 rching Band and Color Guard will perform at halftime.  The Hawks are offe
 ring a special ticket pricing for advance purchase tickets\, ranging from 
 $17 to $94 (plus taxes and fees) depending on the section.  Group ticket 
 discounts are also available. Come out to State Farm Arena and support the
  Hawks\, AFB\, and the community!\n\n
ATTACH;FMTTYPE=image/jpeg:https://atlantafreedombands.com/wp-content/uploa
 ds/2025/01/AtlantaHawks.jpg
CATEGORIES:Color Guard,Marching Band
END:VEVENT
BEGIN:VTIMEZONE
TZID:America/Detroit
X-LIC-LOCATION:America/Detroit
BEGIN:STANDARD
DTSTART:20241103T010000
TZOFFSETFROM:-0400
TZOFFSETTO:-0500
TZNAME:EST
END:STANDARD
END:VTIMEZONE
END:VCALENDAR