BEGIN:VCALENDAR
VERSION:2.0
PRODID:-//wp-events-plugin.com//7.2.3.1//EN
TZID:America/Detroit
X-WR-TIMEZONE:America/Detroit
BEGIN:VEVENT
UID:34@atlantafreedombands.com
DTSTART;TZID=America/Detroit:20250315T120000
DTEND;TZID=America/Detroit:20250315T130000
DTSTAMP:20241011T171104Z
URL:https://atlantafreedombands.com/events/atlanta-freedom-bands-to-appear
 -in-the-2025-atlanta-st-patricks-day-parade/
SUMMARY:2025 Atlanta St. Patrick's Day Parade
DESCRIPTION:Check out our Marching Band and Color Guard as they march down 
 Peachtree Street at this year's Atlanta Saint Patrick's Day Parade on Satu
 rday.  The parade is our city's longest-running social event\, going all 
 the way back to 1848.  The parade steps off at noon from Colony Square (P
 eachtree and 15th) and heads south to 5th Street.  Plan to arrive early a
 nd bring a chair so you can claim a prime viewing spot to catch all the fl
 oats\, dancers\, specialty vehicles\, and (of course) the marching bands!
ATTACH;FMTTYPE=image/jpeg:https://atlantafreedombands.com/wp-content/uploa
 ds/2024/10/2024-St-Patrick-1200.jpg
CATEGORIES:Color Guard,Marching Band
END:VEVENT
BEGIN:VTIMEZONE
TZID:America/Detroit
X-LIC-LOCATION:America/Detroit
BEGIN:DAYLIGHT
DTSTART:20250309T030000
TZOFFSETFROM:-0500
TZOFFSETTO:-0400
TZNAME:EDT
END:DAYLIGHT
END:VTIMEZONE
END:VCALENDAR