BEGIN:VCALENDAR
VERSION:2.0
PRODID:-//wp-events-plugin.com//7.2.3.1//EN
TZID:America/Detroit
X-WR-TIMEZONE:America/Detroit
BEGIN:VEVENT
UID:31@atlantafreedombands.com
DTSTART;TZID=America/Detroit:20240904T193000
DTEND;TZID=America/Detroit:20240904T210000
DTSTAMP:20240821T195512Z
URL:https://atlantafreedombands.com/events/aquaa-season-preview-2024/
SUMMARY:AQuAA Season Preview
DESCRIPTION:Join the members of AQuAA (Atlanta Queer Arts Alliance) for a 
 spellbinding preview of all the exciting events each has in store for Atla
 nta this coming season! From theatre to music to film – there’s someth
 ing for everyone to enjoy from every AQuAA member!\n\nYou hear about all t
 he fall events from our friends in the arts and see short performances fro
 m:\n\n 	The Atlanta Philharmonic Orchestra\n 	OutFront Theater Company\n 	
 Voices of Note (The Atlanta Gay Men's Chorus and Atlanta Women's Chorus)\n
  	OurSong Chorus\n 	Out on Film\n 	Southern Fried Queer Pride\n 	And\, us 
 -- Atlanta Freedom Bands!\n\nOutFront Theatre\nTickets are $10\n(Buy Ticke
 ts)\n\nDoors Open at 6:30 PM\nPreview Begins at 7:30 PM\nCash Bar is Avail
 able
ATTACH;FMTTYPE=image/jpeg:https://atlantafreedombands.com/wp-content/uploa
 ds/2024/08/AQUAA-Season-Preview-1024x1024-1.png
CATEGORIES:Concert Band
LOCATION:OutFront Theatre\, 999 Brady Ave NW\, Atlanta\, GA\, 30318\, Unite
 d States
X-APPLE-STRUCTURED-LOCATION;VALUE=URI;X-ADDRESS=999 Brady Ave NW\, Atlanta\
 , GA\, 30318\, United States;X-APPLE-RADIUS=100;X-TITLE=OutFront Theatre:g
 eo:0,0
END:VEVENT
BEGIN:VTIMEZONE
TZID:America/Detroit
X-LIC-LOCATION:America/Detroit
BEGIN:DAYLIGHT
DTSTART:20240310T030000
TZOFFSETFROM:-0500
TZOFFSETTO:-0400
TZNAME:EDT
END:DAYLIGHT
END:VTIMEZONE
END:VCALENDAR