BEGIN:VCALENDAR
VERSION:2.0
PRODID:-//wp-events-plugin.com//7.2.3.1//EN
TZID:America/Detroit
X-WR-TIMEZONE:America/Detroit
BEGIN:VEVENT
UID:48@atlantafreedombands.com
DTSTART;TZID=America/Detroit:20260314T120000
DTEND;TZID=America/Detroit:20260314T130000
DTSTAMP:20251102T171543Z
URL:https://atlantafreedombands.com/events/2026-atlanta-st-patricks-day-pa
 rade/
SUMMARY:2026 Atlanta St. Patrick's Day Parade
DESCRIPTION:Check out our Marching Band and Color Guard for our TENTH appea
 rance in Atlanta Saint Patrick's Day Parade on Saturday\, March 14th.  Th
 e parade is our city's longest-running social event\, going all the way ba
 ck to 1848.  AFB has been marching in the parade since 2016 as the FIRST 
 LGBTQ+ identified group in the parade.  The parade steps off at noon from
  Colony Square (Peachtree and 15th) and heads south to 5th Street.  Don y
 our GREEN apparel and join in all the fun.  Plan to arrive early and brin
 g a chair so you can claim a prime viewing spot to catch all the floats\, 
 dancers\, specialty vehicles\, and (of course) the marching bands!\n\n\n\n
 Directions and Tips:  MARTA is a good choice for viewing the parade route
  with three stations along or near the festivities.  Parking is limited i
 n Midtown and can be expensive\, so a shared ride could also be a good opt
 ion.\n\n
ATTACH;FMTTYPE=image/jpeg:https://atlantafreedombands.com/wp-content/uploa
 ds/2024/10/2024-St-Patrick-1200.jpg
CATEGORIES:Color Guard,Marching Band
END:VEVENT
BEGIN:VTIMEZONE
TZID:America/Detroit
X-LIC-LOCATION:America/Detroit
BEGIN:DAYLIGHT
DTSTART:20260308T030000
TZOFFSETFROM:-0500
TZOFFSETTO:-0400
TZNAME:EDT
END:DAYLIGHT
END:VTIMEZONE
END:VCALENDAR