BEGIN:VCALENDAR
VERSION:2.0
PRODID:-//wp-events-plugin.com//7.2.3.1//EN
TZID:America/Detroit
X-WR-TIMEZONE:America/Detroit
BEGIN:VEVENT
UID:35@atlantafreedombands.com
DTSTART;TZID=America/Detroit:20250628T100000
DTEND;TZID=America/Detroit:20250628T110000
DTSTAMP:20241011T171747Z
URL:https://atlantafreedombands.com/events/2025-augusta-pride-parade/
SUMMARY:2025 Augusta Pride Parade
DESCRIPTION:Our Marching Band and Color Guard travels to Georgia's Garden C
 ity to take part in the 2025 Augusta Pride Parade!
ATTACH;FMTTYPE=image/jpeg:https://atlantafreedombands.com/wp-content/uploa
 ds/2024/10/2024-Augusta-Pride.jpg
CATEGORIES:Color Guard,Marching Band
END:VEVENT
BEGIN:VTIMEZONE
TZID:America/Detroit
X-LIC-LOCATION:America/Detroit
BEGIN:DAYLIGHT
DTSTART:20250309T030000
TZOFFSETFROM:-0500
TZOFFSETTO:-0400
TZNAME:EDT
END:DAYLIGHT
END:VTIMEZONE
END:VCALENDAR